BEGIN:VCALENDAR
VERSION:2.0
PRODID:-//SUB TERRA Events - ECPv6.15.13.1//NONSGML v1.0//EN
CALSCALE:GREGORIAN
METHOD:PUBLISH
X-WR-CALNAME:SUB TERRA Events
X-ORIGINAL-URL:https://subterraevents.com
X-WR-CALDESC:Events for SUB TERRA Events
REFRESH-INTERVAL;VALUE=DURATION:PT1H
X-Robots-Tag:noindex
X-PUBLISHED-TTL:PT1H
BEGIN:VTIMEZONE
TZID:UTC
BEGIN:STANDARD
TZOFFSETFROM:+0000
TZOFFSETTO:+0000
TZNAME:UTC
DTSTART:20220101T000000
END:STANDARD
END:VTIMEZONE
BEGIN:VEVENT
DTSTART;TZID=UTC:20230629T080000
DTEND;TZID=UTC:20230630T020000
DTSTAMP:20260421T130219
CREATED:20230623T205738Z
LAST-MODIFIED:20230623T205852Z
UID:411-1688025600-1688090400@subterraevents.com
SUMMARY:Drakk @ DarkStar
DESCRIPTION:DRAKK\, hailing from the Santa Clara valley\, is a formidable presence in the industrial techno realm. Since 2018\, he has been captivating audiences with his distinct blend of raw distortion\, driving rhythms\, and sinister vibes. His music has garnered support from renowned artists like Amelie Lens\, Dax J\, and Kobosil. \nNow\, DRAKK is gearing up for his Arizona debut at Darkstar Tempe\, hosted by Sub Terra and Diamond Juice for Carpe Noctem. This underground techno event\, taking place on June 29\, is set to showcase DRAKK’s unique sound and solidify his presence in the North American techno scene. \nWith releases on respected labels such as Neoacid\, Factory93\, and Insectum\, DRAKK has already made his mark. From electrifying dancefloors in Los Angeles to commanding stages at festivals like Escape Halloween and the legendary Kompass Klub in Ghent\, Belgium\, DRAKK is establishing himself as one of the most captivating artists in North America’s techno landscape. \n21+ | NO REFUNDS
URL:https://subterraevents.com/event/drakk-darkstar-by-subterra/
LOCATION:DarkStar Tempe\, 526 s. Mill Ave\, Tempe\, AZ\, 85281\, United States
ATTACH;FMTTYPE=image/png:https://subterraevents.com/wp-content/uploads/2023/06/DRAKK-flyer-square-final.png
ORGANIZER;CN="SUB TERRA":MAILTO:management@subterraevents.com
END:VEVENT
END:VCALENDAR