BEGIN:VCALENDAR
VERSION:2.0
PRODID:-//SUB TERRA Events - ECPv6.15.13.1//NONSGML v1.0//EN
CALSCALE:GREGORIAN
METHOD:PUBLISH
X-ORIGINAL-URL:https://subterraevents.com
X-WR-CALDESC:Events for SUB TERRA Events
REFRESH-INTERVAL;VALUE=DURATION:PT1H
X-Robots-Tag:noindex
X-PUBLISHED-TTL:PT1H
BEGIN:VTIMEZONE
TZID:UTC
BEGIN:STANDARD
TZOFFSETFROM:+0000
TZOFFSETTO:+0000
TZNAME:UTC
DTSTART:20220101T000000
END:STANDARD
END:VTIMEZONE
BEGIN:VEVENT
DTSTART;TZID=UTC:20230727T210000
DTEND;TZID=UTC:20230728T020000
DTSTAMP:20260421T130453
CREATED:20230719T020224Z
LAST-MODIFIED:20230720T000319Z
UID:462-1690491600-1690509600@subterraevents.com
SUMMARY:Ana Dimco @DarkStar
DESCRIPTION:ANA DIMCO is set for her AZ debut at Darkstar Tempe on July 27. Dark hard techno with a powerful punch.
URL:https://subterraevents.com/event/ana-dimco-darkstar/
LOCATION:DarkStar Tempe\, 526 s. Mill Ave\, Tempe\, AZ\, 85281\, United States
CATEGORIES:Upcoming Events
ATTACH;FMTTYPE=image/jpeg:https://subterraevents.com/wp-content/uploads/2023/07/AnnaDimcoFlyer-e1689733108234.jpeg
ORGANIZER;CN="SUB TERRA":MAILTO:management@subterraevents.com
END:VEVENT
BEGIN:VEVENT
DTSTART;TZID=UTC:20230728T210000
DTEND;TZID=UTC:20230729T020000
DTSTAMP:20260421T130453
CREATED:20230719T021030Z
LAST-MODIFIED:20230719T021030Z
UID:465-1690578000-1690596000@subterraevents.com
SUMMARY:DAROH & SKELEFRIEND | House x Techno
DESCRIPTION:Local collective SUB TERRA teams up with LA’s KID HEAVY to bring top local and out of state house x techno headlining DJs to Mesa.
URL:https://subterraevents.com/event/daroh-skelefriend-house-x-techno/
LOCATION:Cleb Endgame\, 1233 S Alma School Rd.\, Mesa\, AZ\, 852210\, United States
CATEGORIES:Upcoming Events
ATTACH;FMTTYPE=image/jpeg:https://subterraevents.com/wp-content/uploads/2023/07/ENDGAME_July_2023-e1689732472211.jpeg
ORGANIZER;CN="SUB TERRA":MAILTO:management@subterraevents.com
END:VEVENT
END:VCALENDAR